BEGIN:VCALENDAR
VERSION:2.0
PRODID:-//wp-events-plugin.com//7.2.3.1//EN
BEGIN:VEVENT
UID:1@last-prize.com
DTSTART:20230828T130000Z
DTEND:20230828T163000Z
DTSTAMP:20230824T111315Z
URL:https://www.last-prize.com/events/kona-card/
SUMMARY:Kona Card
DESCRIPTION:Gym Pokemon at Kona Card 20:00
ATTACH;FMTTYPE=image/jpeg:https://www.last-prize.com/wp-content/uploads/20
 23/03/284069038_101003335969667_8711694456402278100_n.jpg
END:VEVENT
END:VCALENDAR